BEGIN:VCALENDAR
VERSION:2.0
PRODID:-//Ocean City MD Property Management - ECPv5.12.3//NONSGML v1.0//EN
CALSCALE:GREGORIAN
METHOD:PUBLISH
X-WR-CALNAME:Ocean City MD Property Management
X-ORIGINAL-URL:https://ocmannproperties.com
X-WR-CALDESC:Events for Ocean City MD Property Management
BEGIN:VTIMEZONE
TZID:America/New_York
BEGIN:DAYLIGHT
TZOFFSETFROM:-0500
TZOFFSETTO:-0400
TZNAME:EDT
DTSTART:20230312T070000
END:DAYLIGHT
BEGIN:STANDARD
TZOFFSETFROM:-0400
TZOFFSETTO:-0500
TZNAME:EST
DTSTART:20231105T060000
END:STANDARD
END:VTIMEZONE
BEGIN:VEVENT
DTSTART;TZID=America/New_York:20230429T000000
DTEND;TZID=America/New_York:20230429T000000
DTSTAMP:20260422T120724
CREATED:20230429T091726Z
LAST-MODIFIED:20230429T091726Z
UID:2097968-1682726400-1682726400@ocmannproperties.com
SUMMARY:Live Music at Crawl Street Tavern
DESCRIPTION:Come to Crawl Street Tavern located on 19 Wicomico Street in Ocean City to jam out to live music every weekend! The bands will be performing all night so don’t miss a beat. Come dance the night away with your friends and family and take advantage of the awesome food and drink specials!
URL:https://ocmannproperties.com/event/live-music-at-crawl-street-tavern-7/
END:VEVENT
END:VCALENDAR