BEGIN:VCALENDAR
VERSION:2.0
PRODID:-//Ocean City MD Property Management - ECPv5.12.3//NONSGML v1.0//EN
CALSCALE:GREGORIAN
METHOD:PUBLISH
X-WR-CALNAME:Ocean City MD Property Management
X-ORIGINAL-URL:https://ocmannproperties.com
X-WR-CALDESC:Events for Ocean City MD Property Management
BEGIN:VTIMEZONE
TZID:America/New_York
BEGIN:DAYLIGHT
TZOFFSETFROM:-0500
TZOFFSETTO:-0400
TZNAME:EDT
DTSTART:20220313T070000
END:DAYLIGHT
BEGIN:STANDARD
TZOFFSETFROM:-0400
TZOFFSETTO:-0500
TZNAME:EST
DTSTART:20221106T060000
END:STANDARD
END:VTIMEZONE
BEGIN:VEVENT
DTSTART;TZID=America/New_York:20221110T100000
DTEND;TZID=America/New_York:20221110T130000
DTSTAMP:20260421T212353
CREATED:20221110T210327Z
LAST-MODIFIED:20221110T210327Z
UID:2097609-1668074400-1668085200@ocmannproperties.com
SUMMARY:Local Colors\, Watercolors Class | Painting the Delmarva Eastern Shore
DESCRIPTION:Beautiful Shells: In Painting shells we will use either liquid mask or cut out tape to mask the shells\, and our brushes-of-white technique for white shells. To make our shells pop we will use intense colors for the shadows and splattering of the sand texture.\n \nWatch watercolor demonstrations and try your hand as you paint along with Gerilyn! Have fun while you learn to capture the “local color” in watercolors.\n\nGet on Gerilyn’s email list and she will bring you up-to-date with the changing themes.\n \nAll levels are welcome. Bring what supplies you have or rent a kit for just $10 from the instructor.\n \nCost: \n$30 Members; $38 Non-members
URL:https://ocmannproperties.com/event/local-colors-watercolors-class-painting-the-delmarva-eastern-shore-2/
END:VEVENT
END:VCALENDAR