BEGIN:VCALENDAR
VERSION:2.0
PRODID:-//Ocean City MD Property Management - ECPv5.12.3//NONSGML v1.0//EN
CALSCALE:GREGORIAN
METHOD:PUBLISH
X-WR-CALNAME:Ocean City MD Property Management
X-ORIGINAL-URL:https://ocmannproperties.com
X-WR-CALDESC:Events for Ocean City MD Property Management
BEGIN:VTIMEZONE
TZID:America/New_York
BEGIN:DAYLIGHT
TZOFFSETFROM:-0500
TZOFFSETTO:-0400
TZNAME:EDT
DTSTART:20170312T070000
END:DAYLIGHT
BEGIN:STANDARD
TZOFFSETFROM:-0400
TZOFFSETTO:-0500
TZNAME:EST
DTSTART:20171105T060000
END:STANDARD
END:VTIMEZONE
BEGIN:VEVENT
DTSTART;TZID=America/New_York:20170213T183000
DTEND;TZID=America/New_York:20170213T203000
DTSTAMP:20260425T175704
CREATED:20170213T205952Z
LAST-MODIFIED:20170213T205952Z
UID:2088778-1487010600-1487017800@ocmannproperties.com
SUMMARY:Love Anchors the Soul Paint Date
DESCRIPTION:Paint Date just in time for Valentine’s Day! 2 panels that can be paintings on their own\, or a full creation when put side-by-side.\n \nOf course this does not have to be limited to romantic couples… you can paint this dyptych with a friend\, a sibling\, or a parent! You could even paint this solo\, if you really wanted. \n \n$50 per couple. \n \nNo artistic ability needed! 
URL:https://ocmannproperties.com/event/love-anchors-the-soul-paint-date-2/
END:VEVENT
END:VCALENDAR