BEGIN:VCALENDAR
VERSION:2.0
PRODID:-//Ocean City MD Property Management - ECPv5.12.3//NONSGML v1.0//EN
CALSCALE:GREGORIAN
METHOD:PUBLISH
X-WR-CALNAME:Ocean City MD Property Management
X-ORIGINAL-URL:https://ocmannproperties.com
X-WR-CALDESC:Events for Ocean City MD Property Management
BEGIN:VTIMEZONE
TZID:America/New_York
BEGIN:DAYLIGHT
TZOFFSETFROM:-0500
TZOFFSETTO:-0400
TZNAME:EDT
DTSTART:20170312T070000
END:DAYLIGHT
BEGIN:STANDARD
TZOFFSETFROM:-0400
TZOFFSETTO:-0500
TZNAME:EST
DTSTART:20171105T060000
END:STANDARD
END:VTIMEZONE
BEGIN:VEVENT
DTSTART;TZID=America/New_York:20170906T100000
DTEND;TZID=America/New_York:20170906T110000
DTSTAMP:20260425T071021
CREATED:20170906T205857Z
LAST-MODIFIED:20170906T205857Z
UID:2089311-1504692000-1504695600@ocmannproperties.com
SUMMARY:Mahjong or Cards
DESCRIPTION:Come to the Ocean City Senior Center for mahjong or cards!
URL:https://ocmannproperties.com/event/mahjong-or-cards-30/
END:VEVENT
END:VCALENDAR