BEGIN:VCALENDAR
VERSION:2.0
PRODID:-//Ocean City MD Property Management - ECPv5.12.3//NONSGML v1.0//EN
CALSCALE:GREGORIAN
METHOD:PUBLISH
X-WR-CALNAME:Ocean City MD Property Management
X-ORIGINAL-URL:https://ocmannproperties.com
X-WR-CALDESC:Events for Ocean City MD Property Management
BEGIN:VTIMEZONE
TZID:America/New_York
BEGIN:DAYLIGHT
TZOFFSETFROM:-0500
TZOFFSETTO:-0400
TZNAME:EDT
DTSTART:20200308T070000
END:DAYLIGHT
BEGIN:STANDARD
TZOFFSETFROM:-0400
TZOFFSETTO:-0500
TZNAME:EST
DTSTART:20201101T060000
END:STANDARD
END:VTIMEZONE
BEGIN:VEVENT
DTSTART;TZID=America/New_York:20201024T073000
DTEND;TZID=America/New_York:20201024T113000
DTSTAMP:20260421T185449
CREATED:20201024T205854Z
LAST-MODIFIED:20201024T205854Z
UID:2095298-1603524600-1603539000@ocmannproperties.com
SUMMARY:Making Strides Against Breast Cancer 5K Walk/Car Parade
DESCRIPTION:October is Breast Cancer Awareness Month\, join us for our annual walk & run to raise money for the American Cancer Society in Ocean City\, MD.  We will  meet in the south end of the inlet parking lot and our registration tent opens at 7:30am. \nPlease pre-register online at makingstrideswalk.org/oceancitymd. There is no registration fee since we are not having a timed run this year.   \nAny and all donations are greatly appreciated! \nEvent Schedule: \n7:30 AM Check-in/Registration tent opens \n8:00 AM Opening Ceremony with DJ Rupe and guest speakers \n8:30 AM Survivor Tribute and Survivor Photo \n9:00 AM 5K Walk Begins (any runners will line up first)
URL:https://ocmannproperties.com/event/making-strides-against-breast-cancer-5k-walk-car-parade-2/
END:VEVENT
END:VCALENDAR