BEGIN:VCALENDAR
VERSION:2.0
PRODID:-//Ocean City MD Property Management - ECPv5.12.3//NONSGML v1.0//EN
CALSCALE:GREGORIAN
METHOD:PUBLISH
X-WR-CALNAME:Ocean City MD Property Management
X-ORIGINAL-URL:https://ocmannproperties.com
X-WR-CALDESC:Events for Ocean City MD Property Management
BEGIN:VTIMEZONE
TZID:America/New_York
BEGIN:DAYLIGHT
TZOFFSETFROM:-0500
TZOFFSETTO:-0400
TZNAME:EDT
DTSTART:20200308T070000
END:DAYLIGHT
BEGIN:STANDARD
TZOFFSETFROM:-0400
TZOFFSETTO:-0500
TZNAME:EST
DTSTART:20201101T060000
END:STANDARD
END:VTIMEZONE
BEGIN:VEVENT
DTSTART;TZID=America/New_York:20200924T160000
DTEND;TZID=America/New_York:20200924T200000
DTSTAMP:20260422T183922
CREATED:20200924T090115Z
LAST-MODIFIED:20200924T090115Z
UID:2095236-1600963200-1600977600@ocmannproperties.com
SUMMARY:Marcella Peters
DESCRIPTION:This singer and songwriter is changing the world one music note at a time\, come check out Marcella Peters live at the Skye Bar in Ocean City\, Maryland. \n \nMarcella has been honored to work with some of the best Songwriters and Producers in the world. She has worked on CSI\, My name is Earl\, Scrubs\, Las Vegas\, One on One just to name a few and has even done a few commercials\, has worked in Movies including Enemy of the State\, Liberty Heights\, and Washington Square. She also has done some modeling/Print work.   You have to drop in and check out this artist!  \n \n 
URL:https://ocmannproperties.com/event/marcella-peters/
END:VEVENT
END:VCALENDAR