BEGIN:VCALENDAR
VERSION:2.0
PRODID:-//Ocean City MD Property Management - ECPv5.12.3//NONSGML v1.0//EN
CALSCALE:GREGORIAN
METHOD:PUBLISH
X-WR-CALNAME:Ocean City MD Property Management
X-ORIGINAL-URL:https://ocmannproperties.com
X-WR-CALDESC:Events for Ocean City MD Property Management
BEGIN:VTIMEZONE
TZID:America/New_York
BEGIN:DAYLIGHT
TZOFFSETFROM:-0500
TZOFFSETTO:-0400
TZNAME:EDT
DTSTART:20170312T070000
END:DAYLIGHT
BEGIN:STANDARD
TZOFFSETFROM:-0400
TZOFFSETTO:-0500
TZNAME:EST
DTSTART:20171105T060000
END:STANDARD
END:VTIMEZONE
BEGIN:VEVENT
DTSTART;TZID=America/New_York:20170618T000000
DTEND;TZID=America/New_York:20170618T000000
DTSTAMP:20260425T104408
CREATED:20170618T205829Z
LAST-MODIFIED:20170618T205829Z
UID:2089149-1497744000-1497744000@ocmannproperties.com
SUMMARY:Maryland State Firemen's Convention and Parade
DESCRIPTION:Annual convention and conference for the State of Maryland Fire and Rescue Services.  Annual meeting\, exhibits\, training opportunities\, and seminars are available.  The public is invited to come in and meet the firemen and see exhibits Monday thru Wednesday.  \n \nThe Memorial Service is Sunday at 5pm.  \nThe Opening Ceremonies are Monday at 8:30am.  \nThe Exhibits are Monday and Tuesday from 9am-4:30pm and Wednesday from 9am to noon.  \nThe Annual Parade is Wednesday at 1 p.m.  Equipment\, bands\, & floats (approx. 3 hours).  \n \nFor more information visit http://www.msfa.org \n 
URL:https://ocmannproperties.com/event/maryland-state-firemens-convention-and-parade-2/
END:VEVENT
END:VCALENDAR