BEGIN:VCALENDAR
VERSION:2.0
PRODID:-//Ocean City MD Property Management - ECPv5.12.3//NONSGML v1.0//EN
CALSCALE:GREGORIAN
METHOD:PUBLISH
X-WR-CALNAME:Ocean City MD Property Management
X-ORIGINAL-URL:https://ocmannproperties.com
X-WR-CALDESC:Events for Ocean City MD Property Management
BEGIN:VTIMEZONE
TZID:America/New_York
BEGIN:DAYLIGHT
TZOFFSETFROM:-0500
TZOFFSETTO:-0400
TZNAME:EDT
DTSTART:20190310T070000
END:DAYLIGHT
BEGIN:STANDARD
TZOFFSETFROM:-0400
TZOFFSETTO:-0500
TZNAME:EST
DTSTART:20191103T060000
END:STANDARD
END:VTIMEZONE
BEGIN:VEVENT
DTSTART;TZID=America/New_York:20190320T100000
DTEND;TZID=America/New_York:20190320T150000
DTSTAMP:20260423T201401
CREATED:20190320T085832Z
LAST-MODIFIED:20190320T085832Z
UID:2094102-1553076000-1553094000@ocmannproperties.com
SUMMARY:Maryland VA Representative
DESCRIPTION:Maryland Department of Veterans Affairs representative Michelle Licata offers outreach services to veterans and their families on the 3rd Wednesday of each month. No appointment necessary. For more information please call 410-713-3482. 
URL:https://ocmannproperties.com/event/maryland-va-representative-5/
END:VEVENT
END:VCALENDAR