BEGIN:VCALENDAR
VERSION:2.0
PRODID:-//Ocean City MD Property Management - ECPv5.12.3//NONSGML v1.0//EN
CALSCALE:GREGORIAN
METHOD:PUBLISH
X-WR-CALNAME:Ocean City MD Property Management
X-ORIGINAL-URL:https://ocmannproperties.com
X-WR-CALDESC:Events for Ocean City MD Property Management
BEGIN:VTIMEZONE
TZID:America/New_York
BEGIN:DAYLIGHT
TZOFFSETFROM:-0500
TZOFFSETTO:-0400
TZNAME:EDT
DTSTART:20170312T070000
END:DAYLIGHT
BEGIN:STANDARD
TZOFFSETFROM:-0400
TZOFFSETTO:-0500
TZNAME:EST
DTSTART:20171105T060000
END:STANDARD
END:VTIMEZONE
BEGIN:VEVENT
DTSTART;VALUE=DATE:20170612
DTEND;VALUE=DATE:20170613
DTSTAMP:20260425T102848
CREATED:20170612T205959Z
LAST-MODIFIED:20170612T205959Z
UID:2089137-1497225600-1497311999@ocmannproperties.com
SUMMARY:Military Monday
DESCRIPTION:Active and retired military heroes save 10% on Military Monday at Hooters of West Ocean City 
URL:https://ocmannproperties.com/event/military-monday-20/
END:VEVENT
END:VCALENDAR