BEGIN:VCALENDAR
VERSION:2.0
PRODID:-//Ocean City MD Property Management - ECPv5.12.3//NONSGML v1.0//EN
CALSCALE:GREGORIAN
METHOD:PUBLISH
X-WR-CALNAME:Ocean City MD Property Management
X-ORIGINAL-URL:https://ocmannproperties.com
X-WR-CALDESC:Events for Ocean City MD Property Management
BEGIN:VTIMEZONE
TZID:America/New_York
BEGIN:DAYLIGHT
TZOFFSETFROM:-0500
TZOFFSETTO:-0400
TZNAME:EDT
DTSTART:20190310T070000
END:DAYLIGHT
BEGIN:STANDARD
TZOFFSETFROM:-0400
TZOFFSETTO:-0500
TZNAME:EST
DTSTART:20191103T060000
END:STANDARD
END:VTIMEZONE
BEGIN:VEVENT
DTSTART;TZID=America/New_York:20190930T170000
DTEND;TZID=America/New_York:20190930T170000
DTSTAMP:20260423T075419
CREATED:20190930T090113Z
LAST-MODIFIED:20190930T090113Z
UID:2094486-1569862800-1569862800@ocmannproperties.com
SUMMARY:Monday Night Deck Party at Fager's
DESCRIPTION:Join us every Monday for Fager’s Deck Party. Have a blast while enjoying good food\, good drinks and great times dancing on the deck  at Fager’s Island in Ocean City Maryland. \n \n 
URL:https://ocmannproperties.com/event/monday-night-deck-party-at-fagers-22/
END:VEVENT
END:VCALENDAR