BEGIN:VCALENDAR
VERSION:2.0
PRODID:-//Ocean City MD Property Management - ECPv5.12.3//NONSGML v1.0//EN
CALSCALE:GREGORIAN
METHOD:PUBLISH
X-WR-CALNAME:Ocean City MD Property Management
X-ORIGINAL-URL:https://ocmannproperties.com
X-WR-CALDESC:Events for Ocean City MD Property Management
BEGIN:VTIMEZONE
TZID:America/New_York
BEGIN:DAYLIGHT
TZOFFSETFROM:-0500
TZOFFSETTO:-0400
TZNAME:EDT
DTSTART:20170312T070000
END:DAYLIGHT
BEGIN:STANDARD
TZOFFSETFROM:-0400
TZOFFSETTO:-0500
TZNAME:EST
DTSTART:20171105T060000
END:STANDARD
END:VTIMEZONE
BEGIN:VEVENT
DTSTART;TZID=America/New_York:20170308T170000
DTEND;TZID=America/New_York:20170308T200000
DTSTAMP:20260425T155646
CREATED:20170308T210020Z
LAST-MODIFIED:20170308T210020Z
UID:2088878-1488992400-1489003200@ocmannproperties.com
SUMMARY:Monkee Paw at BJ's
DESCRIPTION:This duo/trio of musicians performs a wide variety of genres all around the Delmarva area!  They do a variety of covers\, as well as a few originals. Paws Up!
URL:https://ocmannproperties.com/event/monkee-paw-at-bjs-2/
END:VEVENT
END:VCALENDAR