BEGIN:VCALENDAR
VERSION:2.0
PRODID:-//Ocean City MD Property Management - ECPv5.12.3//NONSGML v1.0//EN
CALSCALE:GREGORIAN
METHOD:PUBLISH
X-WR-CALNAME:Ocean City MD Property Management
X-ORIGINAL-URL:https://ocmannproperties.com
X-WR-CALDESC:Events for Ocean City MD Property Management
BEGIN:VTIMEZONE
TZID:America/New_York
BEGIN:DAYLIGHT
TZOFFSETFROM:-0500
TZOFFSETTO:-0400
TZNAME:EDT
DTSTART:20210314T070000
END:DAYLIGHT
BEGIN:STANDARD
TZOFFSETFROM:-0400
TZOFFSETTO:-0500
TZNAME:EST
DTSTART:20211107T060000
END:STANDARD
END:VTIMEZONE
BEGIN:VEVENT
DTSTART;TZID=America/New_York:20210325T160000
DTEND;TZID=America/New_York:20210325T200000
DTSTAMP:20260423T051253
CREATED:20210325T210153Z
LAST-MODIFIED:20210325T210153Z
UID:2096376-1616688000-1616702400@ocmannproperties.com
SUMMARY:Moonstone Band
DESCRIPTION:Moonstone is a modern acoustic band plays songs that everyone knows and even a few that you don’t with the end result of helping you have a good time.   These two longtime friends\, have known one for years and have played at different bands over the years.  Pamela on vocals and Rich on guitar will be playing live at the Sky Bar and Grille in Ocean City\, Maryland.
URL:https://ocmannproperties.com/event/moonstone-band-2/
END:VEVENT
END:VCALENDAR