BEGIN:VCALENDAR
VERSION:2.0
PRODID:-//Ocean City MD Property Management - ECPv5.12.3//NONSGML v1.0//EN
CALSCALE:GREGORIAN
METHOD:PUBLISH
X-WR-CALNAME:Ocean City MD Property Management
X-ORIGINAL-URL:https://ocmannproperties.com
X-WR-CALDESC:Events for Ocean City MD Property Management
BEGIN:VTIMEZONE
TZID:America/New_York
BEGIN:DAYLIGHT
TZOFFSETFROM:-0500
TZOFFSETTO:-0400
TZNAME:EDT
DTSTART:20210314T070000
END:DAYLIGHT
BEGIN:STANDARD
TZOFFSETFROM:-0400
TZOFFSETTO:-0500
TZNAME:EST
DTSTART:20211107T060000
END:STANDARD
END:VTIMEZONE
BEGIN:VEVENT
DTSTART;TZID=America/New_York:20210528T080000
DTEND;TZID=America/New_York:20210528T200000
DTSTAMP:20260423T085858
CREATED:20210528T085926Z
LAST-MODIFIED:20210528T085926Z
UID:2096504-1622188800-1622232000@ocmannproperties.com
SUMMARY:Mystery Swipe Friday
DESCRIPTION:Club Ocean members big winning is just a swipe away!  On May 28th at Ocean Downs Casino it’s Mystery Swipe Friday.   Members can swipe at the kiosk to reveal their prize up to $1000 in Free Play.  Every swipe is guaranteed to win FREE PLAY!   \nNo points needed.  One swipe per person.
URL:https://ocmannproperties.com/event/mystery-swipe-friday/
END:VEVENT
END:VCALENDAR