BEGIN:VCALENDAR
VERSION:2.0
PRODID:-//Ocean City MD Property Management - ECPv5.12.3//NONSGML v1.0//EN
CALSCALE:GREGORIAN
METHOD:PUBLISH
X-WR-CALNAME:Ocean City MD Property Management
X-ORIGINAL-URL:https://ocmannproperties.com
X-WR-CALDESC:Events for Ocean City MD Property Management
BEGIN:VTIMEZONE
TZID:America/New_York
BEGIN:DAYLIGHT
TZOFFSETFROM:-0500
TZOFFSETTO:-0400
TZNAME:EDT
DTSTART:20200308T070000
END:DAYLIGHT
BEGIN:STANDARD
TZOFFSETFROM:-0400
TZOFFSETTO:-0500
TZNAME:EST
DTSTART:20201101T060000
END:STANDARD
END:VTIMEZONE
BEGIN:VEVENT
DTSTART;VALUE=DATE:20200218
DTEND;VALUE=DATE:20200219
DTSTAMP:20260422T232017
CREATED:20200218T205925Z
LAST-MODIFIED:20200218T205925Z
UID:2094786-1581984000-1582070399@ocmannproperties.com
SUMMARY:National Drink Wine Day at Sunset Grille
DESCRIPTION:February 18th is National Drink Wine Day!  In honor of this holiday\, Sunset Grille in West Ocean City\, Maryland is offering half-price bottles of wine ALL DAY!  Stop by Sunset Grille and Teasers Bar\, located in the Sunset Marina\, to enjoy the special!
URL:https://ocmannproperties.com/event/national-drink-wine-day-at-sunset-grille/
END:VEVENT
END:VCALENDAR