BEGIN:VCALENDAR
VERSION:2.0
PRODID:-//Ocean City MD Property Management - ECPv5.12.3//NONSGML v1.0//EN
CALSCALE:GREGORIAN
METHOD:PUBLISH
X-WR-CALNAME:Ocean City MD Property Management
X-ORIGINAL-URL:https://ocmannproperties.com
X-WR-CALDESC:Events for Ocean City MD Property Management
BEGIN:VTIMEZONE
TZID:America/New_York
BEGIN:DAYLIGHT
TZOFFSETFROM:-0500
TZOFFSETTO:-0400
TZNAME:EDT
DTSTART:20210314T070000
END:DAYLIGHT
BEGIN:STANDARD
TZOFFSETFROM:-0400
TZOFFSETTO:-0500
TZNAME:EST
DTSTART:20211107T060000
END:STANDARD
END:VTIMEZONE
BEGIN:VEVENT
DTSTART;TZID=America/New_York:20211231T000000
DTEND;TZID=America/New_York:20211231T000000
DTSTAMP:20260423T155751
CREATED:20211231T090256Z
LAST-MODIFIED:20211231T090256Z
UID:2096966-1640908800-1640908800@ocmannproperties.com
SUMMARY:New Year's Eve Party at Cowboy Coast
DESCRIPTION:Get your $65 advance tickets to the Cowboy Coast New Year’s Eve Party which will get you an UNLIMITED PREMIUM OPEN BAR\, Complimentary Midnight Champagne Toast and FREE Mechanical Bull Rides!!! 
URL:https://ocmannproperties.com/event/new-years-eve-party-at-cowboy-coast/
END:VEVENT
END:VCALENDAR