BEGIN:VCALENDAR
VERSION:2.0
PRODID:-//Ocean City MD Property Management - ECPv5.12.3//NONSGML v1.0//EN
CALSCALE:GREGORIAN
METHOD:PUBLISH
X-WR-CALNAME:Ocean City MD Property Management
X-ORIGINAL-URL:https://ocmannproperties.com
X-WR-CALDESC:Events for Ocean City MD Property Management
BEGIN:VTIMEZONE
TZID:America/New_York
BEGIN:DAYLIGHT
TZOFFSETFROM:-0500
TZOFFSETTO:-0400
TZNAME:EDT
DTSTART:20210314T070000
END:DAYLIGHT
BEGIN:STANDARD
TZOFFSETFROM:-0400
TZOFFSETTO:-0500
TZNAME:EST
DTSTART:20211107T060000
END:STANDARD
END:VTIMEZONE
BEGIN:VEVENT
DTSTART;TZID=America/New_York:20211107T120000
DTEND;TZID=America/New_York:20211107T235900
DTSTAMP:20260423T191629
CREATED:20211107T205822Z
LAST-MODIFIED:20211107T205822Z
UID:2096858-1636286400-1636329540@ocmannproperties.com
SUMMARY:NFL Football with Sunday Ticket
DESCRIPTION:Watch all the games at the Skye Raw Bar and Grill.  The Skye Bar has the NFL ticket so you won’t miss a single play!  The Tailgate menu is on point and will make sure you have a happy belly! \n 
URL:https://ocmannproperties.com/event/nfl-football-with-sunday-ticket-2/
END:VEVENT
END:VCALENDAR