BEGIN:VCALENDAR
VERSION:2.0
PRODID:-//Ocean City MD Property Management - ECPv5.12.3//NONSGML v1.0//EN
CALSCALE:GREGORIAN
METHOD:PUBLISH
X-WR-CALNAME:Ocean City MD Property Management
X-ORIGINAL-URL:https://ocmannproperties.com
X-WR-CALDESC:Events for Ocean City MD Property Management
BEGIN:VTIMEZONE
TZID:America/New_York
BEGIN:DAYLIGHT
TZOFFSETFROM:-0500
TZOFFSETTO:-0400
TZNAME:EDT
DTSTART:20210314T070000
END:DAYLIGHT
BEGIN:STANDARD
TZOFFSETFROM:-0400
TZOFFSETTO:-0500
TZNAME:EST
DTSTART:20211107T060000
END:STANDARD
END:VTIMEZONE
BEGIN:VEVENT
DTSTART;TZID=America/New_York:20210207T143000
DTEND;TZID=America/New_York:20210207T180000
DTSTAMP:20260422T003343
CREATED:20210207T085929Z
LAST-MODIFIED:20210207T085929Z
UID:2095762-1612708200-1612720800@ocmannproperties.com
SUMMARY:NFL Trivia Night
DESCRIPTION:It’s time for NFL Trivia at Harpoon Hanna’s Restaurant and Bar!  Test your NFL knowledge\, have some fun with facts while you dine and take advantage of the drink specials.  \n \nSign-in at 2:30 pm\, games start at 3:00 pm
URL:https://ocmannproperties.com/event/nfl-trivia-night/
END:VEVENT
END:VCALENDAR