BEGIN:VCALENDAR
VERSION:2.0
PRODID:-//Ocean City MD Property Management - ECPv5.12.3//NONSGML v1.0//EN
CALSCALE:GREGORIAN
METHOD:PUBLISH
X-WR-CALNAME:Ocean City MD Property Management
X-ORIGINAL-URL:https://ocmannproperties.com
X-WR-CALDESC:Events for Ocean City MD Property Management
BEGIN:VTIMEZONE
TZID:America/New_York
BEGIN:DAYLIGHT
TZOFFSETFROM:-0500
TZOFFSETTO:-0400
TZNAME:EDT
DTSTART:20170312T070000
END:DAYLIGHT
BEGIN:STANDARD
TZOFFSETFROM:-0400
TZOFFSETTO:-0500
TZNAME:EST
DTSTART:20171105T060000
END:STANDARD
END:VTIMEZONE
BEGIN:VEVENT
DTSTART;TZID=America/New_York:20170629T073000
DTEND;TZID=America/New_York:20170629T093000
DTSTAMP:20260425T083942
CREATED:20170629T085819Z
LAST-MODIFIED:20170629T085819Z
UID:2089170-1498721400-1498728600@ocmannproperties.com
SUMMARY:OC Beach Patrol Rookie Graduation
DESCRIPTION:On the the beach between the Pier and the Inlet. Great spectator event\, as this year’s rookie class demonstrates its skills and participates in training exercises.  For more information call 410-289-7556. 
URL:https://ocmannproperties.com/event/oc-beach-patrol-rookie-graduation/
END:VEVENT
END:VCALENDAR