BEGIN:VCALENDAR
VERSION:2.0
PRODID:-//Ocean City MD Property Management - ECPv5.12.3//NONSGML v1.0//EN
CALSCALE:GREGORIAN
METHOD:PUBLISH
X-WR-CALNAME:Ocean City MD Property Management
X-ORIGINAL-URL:https://ocmannproperties.com
X-WR-CALDESC:Events for Ocean City MD Property Management
BEGIN:VTIMEZONE
TZID:America/New_York
BEGIN:DAYLIGHT
TZOFFSETFROM:-0500
TZOFFSETTO:-0400
TZNAME:EDT
DTSTART:20190310T070000
END:DAYLIGHT
BEGIN:STANDARD
TZOFFSETFROM:-0400
TZOFFSETTO:-0500
TZNAME:EST
DTSTART:20191103T060000
END:STANDARD
END:VTIMEZONE
BEGIN:VEVENT
DTSTART;VALUE=DATE:20190914
DTEND;VALUE=DATE:20190915
DTSTAMP:20260423T080132
CREATED:20190914T085936Z
LAST-MODIFIED:20190914T085936Z
UID:2094454-1568419200-1568505599@ocmannproperties.com
SUMMARY:OC Bikefest
DESCRIPTION:The largest motorcycle rally on the East Coast! Featuring vendors\, merchandise\, food\, concerts\, and entertainment! \n \nSaturday\, September 14 Schedule of Events:\n \nInlet | Ticket required \n11:00 AM – 10:00 PM\nVendors\, Official Merchandise\, Food\, Beverages\, and more\nNascar Simulator\n \nBoardwalk Stage\n11:30 AM: Loud Love\n2:00 PM: Kris Bell\n8:00 PM: Big Engine\n \nOcean Stage\n4:00 PM: Rival Sons\n6:30 PM: Stone Temple Pilots\n \nConvention Center | No ticket required\n9:00 AM – 7:00 PM\nVendors\, Official Merchandise\, Food\, Beverages\, and more\nJack Daniel’s Experience\nFree Bike Parking\n \nRommel Harley-Davidson Delmarva Salisbury\, MD | No ticket required\n9:00 AM – 7:00 PM
URL:https://ocmannproperties.com/event/oc-bikefest-5/
END:VEVENT
END:VCALENDAR