BEGIN:VCALENDAR
VERSION:2.0
PRODID:-//Ocean City MD Property Management - ECPv5.12.3//NONSGML v1.0//EN
CALSCALE:GREGORIAN
METHOD:PUBLISH
X-WR-CALNAME:Ocean City MD Property Management
X-ORIGINAL-URL:https://ocmannproperties.com
X-WR-CALDESC:Events for Ocean City MD Property Management
BEGIN:VTIMEZONE
TZID:America/New_York
BEGIN:DAYLIGHT
TZOFFSETFROM:-0500
TZOFFSETTO:-0400
TZNAME:EDT
DTSTART:20200308T070000
END:DAYLIGHT
BEGIN:STANDARD
TZOFFSETFROM:-0400
TZOFFSETTO:-0500
TZNAME:EST
DTSTART:20201101T060000
END:STANDARD
END:VTIMEZONE
BEGIN:VEVENT
DTSTART;TZID=America/New_York:20200321T154000
DTEND;TZID=America/New_York:20200321T173000
DTSTAMP:20260422T213047
CREATED:20200321T085939Z
LAST-MODIFIED:20200321T085939Z
UID:2094856-1584805200-1584811800@ocmannproperties.com
SUMMARY:OC Handbell Festival Concert
DESCRIPTION:Concert of the Handbell Musicians of America\, Area III\, Ocean City Festival.\n \nRegistration required to participate in event. Free admission.\n \n3:40 PM – 4:00 PM Jubilation Track Concert\, Paul Brill – Guest Conductor\n5:00 PM – 5:30 PM Massed Choir Track Concert\, David Harris – Guest Conductor\n \nFor more information\, contact Debbie Henning at debbiehen@gmail.com or visit www.areaiii.org\n \n 
URL:https://ocmannproperties.com/event/oc-handbell-festival-concert/
END:VEVENT
END:VCALENDAR