BEGIN:VCALENDAR
VERSION:2.0
PRODID:-//Ocean City MD Property Management - ECPv5.12.3//NONSGML v1.0//EN
CALSCALE:GREGORIAN
METHOD:PUBLISH
X-WR-CALNAME:Ocean City MD Property Management
X-ORIGINAL-URL:https://ocmannproperties.com
X-WR-CALDESC:Events for Ocean City MD Property Management
BEGIN:VTIMEZONE
TZID:America/New_York
BEGIN:DAYLIGHT
TZOFFSETFROM:-0500
TZOFFSETTO:-0400
TZNAME:EDT
DTSTART:20220313T070000
END:DAYLIGHT
BEGIN:STANDARD
TZOFFSETFROM:-0400
TZOFFSETTO:-0500
TZNAME:EST
DTSTART:20221106T060000
END:STANDARD
END:VTIMEZONE
BEGIN:VEVENT
DTSTART;TZID=America/New_York:20220812T100000
DTEND;TZID=America/New_York:20220812T150000
DTSTAMP:20260424T124420
CREATED:20220812T085836Z
LAST-MODIFIED:20220812T085836Z
UID:2097429-1660298400-1660316400@ocmannproperties.com
SUMMARY:OC Marlin Club Jewelry & Boutique Show with Denny Wong
DESCRIPTION:Shop the OC Marlin Club Jewelry and Boutique Show with Denny Wong on Thursday and Friday.  Park Place Jewelers will have appearances by Jewelry Designers. \n \nOC Marlin Club Jewelry & Boutique Show with Denny Wong \nThursday\, August 11 \nJewelry Show at West OC Store with Simon G. and Denny Wong \nFriday\, August 12
URL:https://ocmannproperties.com/event/oc-marlin-club-jewelry-boutique-show-with-denny-wong/
END:VEVENT
END:VCALENDAR