BEGIN:VCALENDAR
VERSION:2.0
PRODID:-//Ocean City MD Property Management - ECPv5.12.3//NONSGML v1.0//EN
CALSCALE:GREGORIAN
METHOD:PUBLISH
X-WR-CALNAME:Ocean City MD Property Management
X-ORIGINAL-URL:https://ocmannproperties.com
X-WR-CALDESC:Events for Ocean City MD Property Management
BEGIN:VTIMEZONE
TZID:America/New_York
BEGIN:DAYLIGHT
TZOFFSETFROM:-0500
TZOFFSETTO:-0400
TZNAME:EDT
DTSTART:20200308T070000
END:DAYLIGHT
BEGIN:STANDARD
TZOFFSETFROM:-0400
TZOFFSETTO:-0500
TZNAME:EST
DTSTART:20201101T060000
END:STANDARD
END:VTIMEZONE
BEGIN:VEVENT
DTSTART;VALUE=DATE:20200815
DTEND;VALUE=DATE:20200816
DTSTAMP:20260422T181606
CREATED:20200815T205859Z
LAST-MODIFIED:20200815T205859Z
UID:2095156-1597449600-1597535999@ocmannproperties.com
SUMMARY:Ocean City Air Show
DESCRIPTION:The U.S. Air Force has scheduled the F-22 Raptor\, F-35 Lighting II and A-10 Thunderbolt II demonstration teams to perform at the event.\n \n“This will be the one of the first times aviation fans can see a demonstration of the F-22 Raptor and F-35 Lighting II stealth fighters at the same event\,” said Bryan Lilley\, Chairman of the OC Air Show. “We are also eagerly anticipating the release of the Thunderbirds’ updated schedule and we’re hopeful they will be performing as well.”\n \nOriginally scheduled for the second weekend of June\, the show was postponed due to COVID-19. To that end\, show officials will be working with the Town of Ocean City to implement a series of “Stay Safe and Separate Initiatives.” This will help ensure the safety of spectators at the rescheduled August event. For more details please visit https://ocairshow.com/\n \n“The stage for the OC Air Show is 10 miles wide and 1\,000 feet high\,” said Lilley. “Spectators can watch from their backyard\, balcony\, boat or the beach\, making it the ideal event for the Ocean City community to host in the era of social distancing.”\n \nTo receive the latest updates on the rescheduled event as soon as they become available please subscribe to the email newsletter at OCAirShow.com. \n\n \n 
URL:https://ocmannproperties.com/event/ocean-city-air-show-4/
END:VEVENT
END:VCALENDAR