BEGIN:VCALENDAR
VERSION:2.0
PRODID:-//Ocean City MD Property Management - ECPv5.12.3//NONSGML v1.0//EN
CALSCALE:GREGORIAN
METHOD:PUBLISH
X-WR-CALNAME:Ocean City MD Property Management
X-ORIGINAL-URL:https://ocmannproperties.com
X-WR-CALDESC:Events for Ocean City MD Property Management
BEGIN:VTIMEZONE
TZID:America/New_York
BEGIN:DAYLIGHT
TZOFFSETFROM:-0500
TZOFFSETTO:-0400
TZNAME:EDT
DTSTART:20210314T070000
END:DAYLIGHT
BEGIN:STANDARD
TZOFFSETFROM:-0400
TZOFFSETTO:-0500
TZNAME:EST
DTSTART:20211107T060000
END:STANDARD
END:VTIMEZONE
BEGIN:VEVENT
DTSTART;TZID=America/New_York:20210119T100000
DTEND;TZID=America/New_York:20210119T180000
DTSTAMP:20260423T012341
CREATED:20210117T205839Z
LAST-MODIFIED:20210117T205839Z
UID:2095481-1611050400-1611079200@ocmannproperties.com
SUMMARY:Ocean City Blood Drive
DESCRIPTION:Make your appointment today to donate blood during the Ocean City Blood Drive at the Roland E. Powell Convention Center!\n \nDonation Appointment Schedule:\nJanuary 19 – 10:00 am – 6:00 pm\nJanuary 20 – 8:00 am – 4:00 pm\nJanuary 21 – 8:00 am – 2:00 pm \n \nAll presenting donors will receive a free shirt! Available while supplies last. In order to donate\, appointments are encouraged. Walk-ins will be accepted if we can maintain social distancing.
URL:https://ocmannproperties.com/event/ocean-city-blood-drive-2/
END:VEVENT
END:VCALENDAR