BEGIN:VCALENDAR
VERSION:2.0
PRODID:-//Ocean City MD Property Management - ECPv5.12.3//NONSGML v1.0//EN
CALSCALE:GREGORIAN
METHOD:PUBLISH
X-WR-CALNAME:Ocean City MD Property Management
X-ORIGINAL-URL:https://ocmannproperties.com
X-WR-CALDESC:Events for Ocean City MD Property Management
BEGIN:VTIMEZONE
TZID:America/New_York
BEGIN:DAYLIGHT
TZOFFSETFROM:-0500
TZOFFSETTO:-0400
TZNAME:EDT
DTSTART:20200308T070000
END:DAYLIGHT
BEGIN:STANDARD
TZOFFSETFROM:-0400
TZOFFSETTO:-0500
TZNAME:EST
DTSTART:20201101T060000
END:STANDARD
END:VTIMEZONE
BEGIN:VEVENT
DTSTART;TZID=America/New_York:20201121T130000
DTEND;TZID=America/New_York:20201121T153000
DTSTAMP:20260422T220222
CREATED:20201121T205826Z
LAST-MODIFIED:20201121T205826Z
UID:2095361-1605963600-1605972600@ocmannproperties.com
SUMMARY:Ocean City Bridal Show
DESCRIPTION:Ocean City Bridal Show provides the attendees with the opportunity to meet with wedding professionals who will provide them with the information regarding everything needed to plan a perfect wedding starting from cakes to catering\, photographers\, DJs\, dresses\, venues\, tuxes\, and much more.  This fun bridal event will feature free appetizer and dessert samples\, entertainment and Wedding Fashions by Sandal’s Bridal of Ocean City\, Maryland. Purchase Seacrets Beach Cocktails and shop with Wedding vendors.\n \nAdmission:\n$12 online or $15 at the door
URL:https://ocmannproperties.com/event/ocean-city-bridal-show-3/
END:VEVENT
END:VCALENDAR