BEGIN:VCALENDAR
VERSION:2.0
PRODID:-//Ocean City MD Property Management - ECPv5.12.3//NONSGML v1.0//EN
CALSCALE:GREGORIAN
METHOD:PUBLISH
X-WR-CALNAME:Ocean City MD Property Management
X-ORIGINAL-URL:https://ocmannproperties.com
X-WR-CALDESC:Events for Ocean City MD Property Management
BEGIN:VTIMEZONE
TZID:America/New_York
BEGIN:DAYLIGHT
TZOFFSETFROM:-0500
TZOFFSETTO:-0400
TZNAME:EDT
DTSTART:20170312T070000
END:DAYLIGHT
BEGIN:STANDARD
TZOFFSETFROM:-0400
TZOFFSETTO:-0500
TZNAME:EST
DTSTART:20171105T060000
END:STANDARD
END:VTIMEZONE
BEGIN:VEVENT
DTSTART;TZID=America/New_York:20170509T080000
DTEND;TZID=America/New_York:20170509T123000
DTSTAMP:20260425T121257
CREATED:20170509T085849Z
LAST-MODIFIED:20170509T085849Z
UID:2089047-1494316800-1494333000@ocmannproperties.com
SUMMARY:Ocean City Community Health Fair
DESCRIPTION:Annual Community Health Fair – Free Admission\n \nThe Health Fair will offer free health screenings\,  free health education and a blood drive.\n \nFree Screenings:\nCarotid\nSkin Cancer\nRespiratory\nBone Density\nHearing\nBlood Pressure \nFoot Checks \nand More \n \n \n \nSpecial visit with Sherman the Shorebird\n \nContact Melvin Friedman at 410-524-1177 or Dawn Denton 410-641-9268 for more information \n\n \nAll are Welcome \n \n\n 
URL:https://ocmannproperties.com/event/ocean-city-community-health-fair/
END:VEVENT
END:VCALENDAR