BEGIN:VCALENDAR
VERSION:2.0
PRODID:-//Ocean City MD Property Management - ECPv5.12.3//NONSGML v1.0//EN
CALSCALE:GREGORIAN
METHOD:PUBLISH
X-WR-CALNAME:Ocean City MD Property Management
X-ORIGINAL-URL:https://ocmannproperties.com
X-WR-CALDESC:Events for Ocean City MD Property Management
BEGIN:VTIMEZONE
TZID:America/New_York
BEGIN:DAYLIGHT
TZOFFSETFROM:-0500
TZOFFSETTO:-0400
TZNAME:EDT
DTSTART:20210314T070000
END:DAYLIGHT
BEGIN:STANDARD
TZOFFSETFROM:-0400
TZOFFSETTO:-0500
TZNAME:EST
DTSTART:20211107T060000
END:STANDARD
END:VTIMEZONE
BEGIN:VEVENT
DTSTART;TZID=America/New_York:20210817T080000
DTEND;TZID=America/New_York:20210817T130000
DTSTAMP:20260421T053147
CREATED:20210817T205850Z
LAST-MODIFIED:20210817T205850Z
UID:2096686-1629187200-1629205200@ocmannproperties.com
SUMMARY:Ocean City Farmers Market
DESCRIPTION:Shop for locally grown\, farm fresh fruits\, vegetables\, herbs\, plants and more from local farm families at the Ocean City Farmers Market at the Gold Coast Mall on 115th Street. 
URL:https://ocmannproperties.com/event/ocean-city-farmers-market-6/
END:VEVENT
END:VCALENDAR