BEGIN:VCALENDAR
VERSION:2.0
PRODID:-//Ocean City MD Property Management - ECPv5.12.3//NONSGML v1.0//EN
CALSCALE:GREGORIAN
METHOD:PUBLISH
X-WR-CALNAME:Ocean City MD Property Management
X-ORIGINAL-URL:https://ocmannproperties.com
X-WR-CALDESC:Events for Ocean City MD Property Management
BEGIN:VTIMEZONE
TZID:America/New_York
BEGIN:DAYLIGHT
TZOFFSETFROM:-0500
TZOFFSETTO:-0400
TZNAME:EDT
DTSTART:20190310T070000
END:DAYLIGHT
BEGIN:STANDARD
TZOFFSETFROM:-0400
TZOFFSETTO:-0500
TZNAME:EST
DTSTART:20191103T060000
END:STANDARD
END:VTIMEZONE
BEGIN:VEVENT
DTSTART;TZID=America/New_York:20190308T000000
DTEND;TZID=America/New_York:20190308T000000
DTSTAMP:20260423T183822
CREATED:20190308T205844Z
LAST-MODIFIED:20190308T205844Z
UID:2094079-1552003200-1552003200@ocmannproperties.com
SUMMARY:Ocean City Film Festival
DESCRIPTION:The Ocean City Film Festival features work by regional and international filmmakers of every background and genre.  \n \nThis year’s event will be held March 8- 10. 
URL:https://ocmannproperties.com/event/ocean-city-film-festival-2/
END:VEVENT
END:VCALENDAR