BEGIN:VCALENDAR
VERSION:2.0
PRODID:-//Ocean City MD Property Management - ECPv5.12.3//NONSGML v1.0//EN
CALSCALE:GREGORIAN
METHOD:PUBLISH
X-WR-CALNAME:Ocean City MD Property Management
X-ORIGINAL-URL:https://ocmannproperties.com
X-WR-CALDESC:Events for Ocean City MD Property Management
BEGIN:VTIMEZONE
TZID:America/New_York
BEGIN:DAYLIGHT
TZOFFSETFROM:-0500
TZOFFSETTO:-0400
TZNAME:EDT
DTSTART:20170312T070000
END:DAYLIGHT
BEGIN:STANDARD
TZOFFSETFROM:-0400
TZOFFSETTO:-0500
TZNAME:EST
DTSTART:20171105T060000
END:STANDARD
END:VTIMEZONE
BEGIN:VEVENT
DTSTART;VALUE=DATE:20170824
DTEND;VALUE=DATE:20170825
DTSTAMP:20260425T083645
CREATED:20170824T205937Z
LAST-MODIFIED:20170824T205937Z
UID:2089285-1503532800-1503619199@ocmannproperties.com
SUMMARY:Ocean City Jeep Week
DESCRIPTION:Get your Jeep ready to experience the sun\, sand\, and mud!  You don’t need a Jeep to check out all the fun – daily passes available.  Family fun event with 250+ Jeeps participating in Beach Crawls\, Jeep Jams\, and Show & Shines!  \n​
URL:https://ocmannproperties.com/event/ocean-city-jeep-week-2/
END:VEVENT
END:VCALENDAR