BEGIN:VCALENDAR
VERSION:2.0
PRODID:-//Ocean City MD Property Management - ECPv5.12.3//NONSGML v1.0//EN
CALSCALE:GREGORIAN
METHOD:PUBLISH
X-WR-CALNAME:Ocean City MD Property Management
X-ORIGINAL-URL:https://ocmannproperties.com
X-WR-CALDESC:Events for Ocean City MD Property Management
BEGIN:VTIMEZONE
TZID:America/New_York
BEGIN:DAYLIGHT
TZOFFSETFROM:-0500
TZOFFSETTO:-0400
TZNAME:EDT
DTSTART:20210314T070000
END:DAYLIGHT
BEGIN:STANDARD
TZOFFSETFROM:-0400
TZOFFSETTO:-0500
TZNAME:EST
DTSTART:20211107T060000
END:STANDARD
END:VTIMEZONE
BEGIN:VEVENT
DTSTART;TZID=America/New_York:20211022T000000
DTEND;TZID=America/New_York:20211022T000000
DTSTAMP:20260423T191630
CREATED:20211022T090308Z
LAST-MODIFIED:20211022T090308Z
UID:2096825-1634860800-1634860800@ocmannproperties.com
SUMMARY:OCtoberfest: Halloween Beach Maze
DESCRIPTION:Wicked witches\, pirates of the sand\, scary\n scarecrows\, ghouls in the graveyard\, zombies\, and more await your\narrival.  People of all ages\, from newborns to grandparents\, will enjoy a pleasant\nscream as they meandered the sands of the giant\, bigger and better than\never\, beach maze! \nBe there if you dare!
URL:https://ocmannproperties.com/event/octoberfest-halloween-beach-maze-3/
END:VEVENT
END:VCALENDAR