BEGIN:VCALENDAR
VERSION:2.0
PRODID:-//Ocean City MD Property Management - ECPv5.12.3//NONSGML v1.0//EN
CALSCALE:GREGORIAN
METHOD:PUBLISH
X-WR-CALNAME:Ocean City MD Property Management
X-ORIGINAL-URL:https://ocmannproperties.com
X-WR-CALDESC:Events for Ocean City MD Property Management
BEGIN:VTIMEZONE
TZID:America/New_York
BEGIN:DAYLIGHT
TZOFFSETFROM:-0500
TZOFFSETTO:-0400
TZNAME:EDT
DTSTART:20190310T070000
END:DAYLIGHT
BEGIN:STANDARD
TZOFFSETFROM:-0400
TZOFFSETTO:-0500
TZNAME:EST
DTSTART:20191103T060000
END:STANDARD
END:VTIMEZONE
BEGIN:VEVENT
DTSTART;VALUE=DATE:20190907
DTEND;VALUE=DATE:20190908
DTSTAMP:20260423T094856
CREATED:20190907T090353Z
LAST-MODIFIED:20190907T090353Z
UID:2094440-1567814400-1567900799@ocmannproperties.com
SUMMARY:O'Neill East Coast Grom Tour
DESCRIPTION:This surfing competition is the perfect entry-level program for young surfers that want to have fun\, make new friends\, and win some cool prizes! Surfers will have the chance to win cold hard cash at the competition and $500 for the season champion in each division (excluding bodyboard and push in). \n \nDivisions:\nBoys and girls 10 and under\nBoys 11-13\nBoys 14-17\nGirls 17 and under\nBoys Open Longboard\nGirls Open Longboard\nOpen Shortboard\nOpen Bodyboard
URL:https://ocmannproperties.com/event/oneill-east-coast-grom-tour/
END:VEVENT
END:VCALENDAR