BEGIN:VCALENDAR
VERSION:2.0
PRODID:-//Ocean City MD Property Management - ECPv5.12.3//NONSGML v1.0//EN
CALSCALE:GREGORIAN
METHOD:PUBLISH
X-WR-CALNAME:Ocean City MD Property Management
X-ORIGINAL-URL:https://ocmannproperties.com
X-WR-CALDESC:Events for Ocean City MD Property Management
BEGIN:VTIMEZONE
TZID:America/New_York
BEGIN:DAYLIGHT
TZOFFSETFROM:-0500
TZOFFSETTO:-0400
TZNAME:EDT
DTSTART:20200308T070000
END:DAYLIGHT
BEGIN:STANDARD
TZOFFSETFROM:-0400
TZOFFSETTO:-0500
TZNAME:EST
DTSTART:20201101T060000
END:STANDARD
END:VTIMEZONE
BEGIN:VEVENT
DTSTART;TZID=America/New_York:20200504T153000
DTEND;TZID=America/New_York:20200504T173000
DTSTAMP:20260422T181012
CREATED:20200504T210009Z
LAST-MODIFIED:20200504T210009Z
UID:2094947-1588606200-1588613400@ocmannproperties.com
SUMMARY:Online Class: Develop your Drawing Skills with David Simpson
DESCRIPTION:This online class will focus on drawing the comfort of your home with space and perspective.  Students will set up in a favorite location in their house or a location that they find to have an interesting perspective.  This lesson could apply one-point or multiple point perspective. \n \nThis is an online class taught with the Zoom app\, spaces are limited to 12 students.\n$25 for members/ $30 for non-members per class\nPlease register by 5/3/2020
URL:https://ocmannproperties.com/event/online-class-develop-your-drawing-skills-with-david-simpson-4/
END:VEVENT
END:VCALENDAR