BEGIN:VCALENDAR
VERSION:2.0
PRODID:-//Ocean City MD Property Management - ECPv5.12.3//NONSGML v1.0//EN
CALSCALE:GREGORIAN
METHOD:PUBLISH
X-WR-CALNAME:Ocean City MD Property Management
X-ORIGINAL-URL:https://ocmannproperties.com
X-WR-CALDESC:Events for Ocean City MD Property Management
BEGIN:VTIMEZONE
TZID:America/New_York
BEGIN:DAYLIGHT
TZOFFSETFROM:-0500
TZOFFSETTO:-0400
TZNAME:EDT
DTSTART:20200308T070000
END:DAYLIGHT
BEGIN:STANDARD
TZOFFSETFROM:-0400
TZOFFSETTO:-0500
TZNAME:EST
DTSTART:20201101T060000
END:STANDARD
END:VTIMEZONE
BEGIN:VEVENT
DTSTART;TZID=America/New_York:20200421T130000
DTEND;TZID=America/New_York:20200421T150000
DTSTAMP:20260422T195711
CREATED:20200421T205827Z
LAST-MODIFIED:20200421T205827Z
UID:2094921-1587474000-1587481200@ocmannproperties.com
SUMMARY:Online Class: Develop your Painting Skills in Oil or Acrylic with David Simpson
DESCRIPTION:Regardless of your amount of experience\, desired painting style\, or subject preference\, this class will assist in your growth as a painter and artist.  This class will guide you step by step through the stages of developing a painting.  Along with color mixing\, the primary goal of instruction will address the importance of creating a sketch and dynamic composition in paint. \n \nCost: $25 members\, $30 non-members\nSpaces are limited to 12 students\nPlease register by 4/20/2020
URL:https://ocmannproperties.com/event/online-class-develop-your-painting-skills-in-oil-or-acrylic-with-david-simpson-2/
END:VEVENT
END:VCALENDAR