BEGIN:VCALENDAR
VERSION:2.0
PRODID:-//Ocean City MD Property Management - ECPv5.12.3//NONSGML v1.0//EN
CALSCALE:GREGORIAN
METHOD:PUBLISH
X-WR-CALNAME:Ocean City MD Property Management
X-ORIGINAL-URL:https://ocmannproperties.com
X-WR-CALDESC:Events for Ocean City MD Property Management
BEGIN:VTIMEZONE
TZID:America/New_York
BEGIN:DAYLIGHT
TZOFFSETFROM:-0500
TZOFFSETTO:-0400
TZNAME:EDT
DTSTART:20170312T070000
END:DAYLIGHT
BEGIN:STANDARD
TZOFFSETFROM:-0400
TZOFFSETTO:-0500
TZNAME:EST
DTSTART:20171105T060000
END:STANDARD
END:VTIMEZONE
BEGIN:VEVENT
DTSTART;TZID=America/New_York:20171228T170000
DTEND;TZID=America/New_York:20171228T210000
DTSTAMP:20260424T231121
CREATED:20171228T210229Z
LAST-MODIFIED:20171228T210229Z
UID:2089539-1514480400-1514494800@ocmannproperties.com
SUMMARY:Paint Night with Kevin Poole
DESCRIPTION:Raise your glass to a NEW kind of night out! Paint Nite® invites you to create art over cocktails at a local restaurant or bar\, guided by a professional artist and party host. Grab your friends and spend two hours drinking\, laughing\, and flexing your creative muscles. There’s no experience necessary and we’ll provide all the supplies\, so you don’t have to worry about a thing (except having a great time!). Must be of legal drinking age. Food and drink may be purchased at the event. \n \n 
URL:https://ocmannproperties.com/event/paint-night-with-kevin-poole-4/
END:VEVENT
END:VCALENDAR