BEGIN:VCALENDAR
VERSION:2.0
PRODID:-//Ocean City MD Property Management - ECPv5.12.3//NONSGML v1.0//EN
CALSCALE:GREGORIAN
METHOD:PUBLISH
X-WR-CALNAME:Ocean City MD Property Management
X-ORIGINAL-URL:https://ocmannproperties.com
X-WR-CALDESC:Events for Ocean City MD Property Management
BEGIN:VTIMEZONE
TZID:America/New_York
BEGIN:DAYLIGHT
TZOFFSETFROM:-0500
TZOFFSETTO:-0400
TZNAME:EDT
DTSTART:20210314T070000
END:DAYLIGHT
BEGIN:STANDARD
TZOFFSETFROM:-0400
TZOFFSETTO:-0500
TZNAME:EST
DTSTART:20211107T060000
END:STANDARD
END:VTIMEZONE
BEGIN:VEVENT
DTSTART;TZID=America/New_York:20210223T183000
DTEND;TZID=America/New_York:20210223T203000
DTSTAMP:20260423T032802
CREATED:20210223T085908Z
LAST-MODIFIED:20210223T085908Z
UID:2095801-1614105000-1614112200@ocmannproperties.com
SUMMARY:Paint & Sip with Sloths
DESCRIPTION:Sip and eat while you paint with Sloths from Barn Hill Preserve.  An instructor will guide you as you paint a sloth masterpiece while Noah\, resident sloth paints his own masterpiece. Fun filled event is great for ages 12 and up.  All painting supplies will be provided.  \n \n 
URL:https://ocmannproperties.com/event/paint-sip-with-sloths/
END:VEVENT
END:VCALENDAR