BEGIN:VCALENDAR
VERSION:2.0
PRODID:-//Ocean City MD Property Management - ECPv5.12.3//NONSGML v1.0//EN
CALSCALE:GREGORIAN
METHOD:PUBLISH
X-WR-CALNAME:Ocean City MD Property Management
X-ORIGINAL-URL:https://ocmannproperties.com
X-WR-CALDESC:Events for Ocean City MD Property Management
BEGIN:VTIMEZONE
TZID:America/New_York
BEGIN:DAYLIGHT
TZOFFSETFROM:-0500
TZOFFSETTO:-0400
TZNAME:EDT
DTSTART:20220313T070000
END:DAYLIGHT
BEGIN:STANDARD
TZOFFSETFROM:-0400
TZOFFSETTO:-0500
TZNAME:EST
DTSTART:20221106T060000
END:STANDARD
END:VTIMEZONE
BEGIN:VEVENT
DTSTART;VALUE=DATE:20221031
DTEND;VALUE=DATE:20221101
DTSTAMP:20260422T223347
CREATED:20221031T090021Z
LAST-MODIFIED:20221031T090021Z
UID:2097590-1667174400-1667260799@ocmannproperties.com
SUMMARY:Pamper Yourself for Charity Raffle
DESCRIPTION:Stop in at A Perfect Day Spa in West Ocean City and purchase your raffle tickets for their annual Pamper Yourself for Charity event.  You’ll definitely feel better helping out either the American Cancer Society or Coastal Hospice (Stansell House) with our Pamper Yourself for Charity raffle! \n\n \nAt $5 a ticket or 6/$25\, you’ll have a chance to win one of our three huge prize packages!
URL:https://ocmannproperties.com/event/pamper-yourself-for-charity-raffle-7/
END:VEVENT
END:VCALENDAR