BEGIN:VCALENDAR
VERSION:2.0
PRODID:-//Ocean City MD Property Management - ECPv5.12.3//NONSGML v1.0//EN
CALSCALE:GREGORIAN
METHOD:PUBLISH
X-WR-CALNAME:Ocean City MD Property Management
X-ORIGINAL-URL:https://ocmannproperties.com
X-WR-CALDESC:Events for Ocean City MD Property Management
BEGIN:VTIMEZONE
TZID:America/New_York
BEGIN:DAYLIGHT
TZOFFSETFROM:-0500
TZOFFSETTO:-0400
TZNAME:EDT
DTSTART:20190310T070000
END:DAYLIGHT
BEGIN:STANDARD
TZOFFSETFROM:-0400
TZOFFSETTO:-0500
TZNAME:EST
DTSTART:20191103T060000
END:STANDARD
END:VTIMEZONE
BEGIN:VEVENT
DTSTART;TZID=America/New_York:20190921T000000
DTEND;TZID=America/New_York:20190921T000000
DTSTAMP:20260423T095138
CREATED:20190921T205856Z
LAST-MODIFIED:20190921T205856Z
UID:2094469-1569024000-1569024000@ocmannproperties.com
SUMMARY:Park Place Jewelers Annual Treasure Hunt at the Beach
DESCRIPTION:Annual Treasure Hunt at the Beach to be held on the beach in front of Park Place Jewelers on the Boardwalk (2nd and 3rd Street at the Park Place Hotel).   \n \nThe first 100 people registered for each day will be able to participate.  A $20.00 entry fee/donation is required to participate and will be donated to the Believe in Tomorrow Children’s Foundation.  Rain or Shine.  Prizes include jewelry\, diamonds\, gemstones and gift certificates to local restaurants and retailers.\n \n 
URL:https://ocmannproperties.com/event/park-place-jewelers-annual-treasure-hunt-at-the-beach-4/
END:VEVENT
END:VCALENDAR