BEGIN:VCALENDAR
VERSION:2.0
PRODID:-//Ocean City MD Property Management - ECPv5.12.3//NONSGML v1.0//EN
CALSCALE:GREGORIAN
METHOD:PUBLISH
X-WR-CALNAME:Ocean City MD Property Management
X-ORIGINAL-URL:https://ocmannproperties.com
X-WR-CALDESC:Events for Ocean City MD Property Management
BEGIN:VTIMEZONE
TZID:America/New_York
BEGIN:DAYLIGHT
TZOFFSETFROM:-0500
TZOFFSETTO:-0400
TZNAME:EDT
DTSTART:20200308T070000
END:DAYLIGHT
BEGIN:STANDARD
TZOFFSETFROM:-0400
TZOFFSETTO:-0500
TZNAME:EST
DTSTART:20201101T060000
END:STANDARD
END:VTIMEZONE
BEGIN:VEVENT
DTSTART;TZID=America/New_York:20201128T150000
DTEND;TZID=America/New_York:20201128T210000
DTSTAMP:20260422T181013
CREATED:20201128T085821Z
LAST-MODIFIED:20201128T085821Z
UID:2095374-1606575600-1606597200@ocmannproperties.com
SUMMARY:Pick Your Painting
DESCRIPTION:Pick Your Painting! No artistic ability needed.   You choose one painting upon arrival and are led through step by step!\n \nT.C. Studios – OC Painting Experience offers a one a kind painting experience similar to what you probably know as Paint Night! \n \n$30  Due to Covid-19\, Studio hours are by appointment only. Everyone must wear a face covering while in the studio. \nSeating is limited\, reserve your spot in advance.  \n \n 
URL:https://ocmannproperties.com/event/pick-your-painting-8/
END:VEVENT
END:VCALENDAR