BEGIN:VCALENDAR
VERSION:2.0
PRODID:-//Ocean City MD Property Management - ECPv5.12.3//NONSGML v1.0//EN
CALSCALE:GREGORIAN
METHOD:PUBLISH
X-WR-CALNAME:Ocean City MD Property Management
X-ORIGINAL-URL:https://ocmannproperties.com
X-WR-CALDESC:Events for Ocean City MD Property Management
BEGIN:VTIMEZONE
TZID:America/New_York
BEGIN:DAYLIGHT
TZOFFSETFROM:-0500
TZOFFSETTO:-0400
TZNAME:EDT
DTSTART:20200308T070000
END:DAYLIGHT
BEGIN:STANDARD
TZOFFSETFROM:-0400
TZOFFSETTO:-0500
TZNAME:EST
DTSTART:20201101T060000
END:STANDARD
END:VTIMEZONE
BEGIN:VEVENT
DTSTART;TZID=America/New_York:20201208T173000
DTEND;TZID=America/New_York:20201208T193000
DTSTAMP:20260420T114749
CREATED:20201208T085852Z
LAST-MODIFIED:20201208T085852Z
UID:2095394-1607448600-1607455800@ocmannproperties.com
SUMMARY:Pizza Party with Santa -  CANCELLED
DESCRIPTION:Children are invited to join Santa for a pizza party! Aside from eating delicious pizza\, activities include arts & crafts\, cookie decorating\, visits with Santa\, and walk through the spectacular Winterfest of Lights.  Each family will be cookie decorating and crafting at their own table this year.\n \nOC Residents – $8.00\nNon-Residents – $10.00\nAdults wishing to walk through Winterfest with their group – $4.00\n \nPre registration is required\, call the Ocean City Parks & Recreation Department to pre-register for this event! \nMasks must be worn at all times.
URL:https://ocmannproperties.com/event/pizza-party-with-santa-cancelled/
END:VEVENT
END:VCALENDAR