BEGIN:VCALENDAR
VERSION:2.0
PRODID:-//Ocean City MD Property Management - ECPv5.12.3//NONSGML v1.0//EN
CALSCALE:GREGORIAN
METHOD:PUBLISH
X-WR-CALNAME:Ocean City MD Property Management
X-ORIGINAL-URL:https://ocmannproperties.com
X-WR-CALDESC:Events for Ocean City MD Property Management
BEGIN:VTIMEZONE
TZID:America/New_York
BEGIN:DAYLIGHT
TZOFFSETFROM:-0500
TZOFFSETTO:-0400
TZNAME:EDT
DTSTART:20190310T070000
END:DAYLIGHT
BEGIN:STANDARD
TZOFFSETFROM:-0400
TZOFFSETTO:-0500
TZNAME:EST
DTSTART:20191103T060000
END:STANDARD
END:VTIMEZONE
BEGIN:VEVENT
DTSTART;TZID=America/New_York:20191225T103000
DTEND;TZID=America/New_York:20191225T120000
DTSTAMP:20260423T024629
CREATED:20191225T085936Z
LAST-MODIFIED:20191225T085936Z
UID:2094663-1577269800-1577275200@ocmannproperties.com
SUMMARY:Platform Tennis Drop-In
DESCRIPTION:Platform tennis is a doubles-oriented\, year-round racquet sport played on specially constructed platforms with paddles in place of racquets. Played outdoors at the Manklin Meadows Racquet Sports Complex\, platform tennis combines the fun and challenge of tennis\, squash and racquetball.\n\nThe Ocean Pines Platform Tennis Club also offers free clinics for new platform players every Saturday at noon. It covers the basics of the sport and allows prospective members to learn  and take lessons for a nominal fee. For ages 12 and older. The first session is free; drop-in is $5. Ask about the free 30-day trial! \n \nCost:\n$5.00 Daily Court Fee
URL:https://ocmannproperties.com/event/platform-tennis-drop-in-3/
END:VEVENT
END:VCALENDAR