BEGIN:VCALENDAR
VERSION:2.0
PRODID:-//Ocean City MD Property Management - ECPv5.12.3//NONSGML v1.0//EN
CALSCALE:GREGORIAN
METHOD:PUBLISH
X-WR-CALNAME:Ocean City MD Property Management
X-ORIGINAL-URL:https://ocmannproperties.com
X-WR-CALDESC:Events for Ocean City MD Property Management
BEGIN:VTIMEZONE
TZID:America/New_York
BEGIN:DAYLIGHT
TZOFFSETFROM:-0500
TZOFFSETTO:-0400
TZNAME:EDT
DTSTART:20180311T070000
END:DAYLIGHT
BEGIN:STANDARD
TZOFFSETFROM:-0400
TZOFFSETTO:-0500
TZNAME:EST
DTSTART:20181104T060000
END:STANDARD
END:VTIMEZONE
BEGIN:VEVENT
DTSTART;TZID=America/New_York:20181219T103000
DTEND;TZID=America/New_York:20181219T120000
DTSTAMP:20260424T000313
CREATED:20181219T210343Z
LAST-MODIFIED:20181219T210343Z
UID:2093919-1545215400-1545220800@ocmannproperties.com
SUMMARY:Play Time at the Ocean City Branch of the Worcester County Library
DESCRIPTION:Come to the Ocean City Branch of the Worcester County Library with your little ones to enjoy play time. Have the babies make new friends and enjoy playing with our great educational toys. 
URL:https://ocmannproperties.com/event/play-time-at-the-ocean-city-branch-of-the-worcester-county-library-2/
END:VEVENT
END:VCALENDAR