BEGIN:VCALENDAR
VERSION:2.0
PRODID:-//Ocean City MD Property Management - ECPv5.12.3//NONSGML v1.0//EN
CALSCALE:GREGORIAN
METHOD:PUBLISH
X-WR-CALNAME:Ocean City MD Property Management
X-ORIGINAL-URL:https://ocmannproperties.com
X-WR-CALDESC:Events for Ocean City MD Property Management
BEGIN:VTIMEZONE
TZID:America/New_York
BEGIN:DAYLIGHT
TZOFFSETFROM:-0500
TZOFFSETTO:-0400
TZNAME:EDT
DTSTART:20210314T070000
END:DAYLIGHT
BEGIN:STANDARD
TZOFFSETFROM:-0400
TZOFFSETTO:-0500
TZNAME:EST
DTSTART:20211107T060000
END:STANDARD
END:VTIMEZONE
BEGIN:VEVENT
DTSTART;VALUE=DATE:20210812
DTEND;VALUE=DATE:20210813
DTSTAMP:20260421T213019
CREATED:20210812T210115Z
LAST-MODIFIED:20210812T210115Z
UID:2096674-1628726400-1628812799@ocmannproperties.com
SUMMARY:Poor Girls Open  - Ladies Only Billfish Tournament
DESCRIPTION:The Poor Girls Open is a ladies only billfish release tournament\nbenefiting breast cancer research. There are also added entry levels for tuna\nand dolphin.  \n  \nThis tournament was started by Capt. Steve Harman as a way for\nlocal waitresses and bartenders to have an affordable and fun competition while\nraising money for a very important cause. The tournament continues to grow with\nover 100 boats entering. Participation is not limited only to anglers as there\nare silent auctions\, 50/50 tickets\, T-shirts for sale\, and other fun events\nhelping to raise money for breast cancer research. In the past 3 years alone\,\nthe Poor Girls Open has raised over $100\,000 that was donated to the American\nCancer Society. \nEach angler or team may fish one out of three days.
URL:https://ocmannproperties.com/event/poor-girls-open-ladies-only-billfish-tournament-4/
END:VEVENT
END:VCALENDAR