BEGIN:VCALENDAR
VERSION:2.0
PRODID:-//Ocean City MD Property Management - ECPv5.12.3//NONSGML v1.0//EN
CALSCALE:GREGORIAN
METHOD:PUBLISH
X-WR-CALNAME:Ocean City MD Property Management
X-ORIGINAL-URL:https://ocmannproperties.com
X-WR-CALDESC:Events for Ocean City MD Property Management
BEGIN:VTIMEZONE
TZID:America/New_York
BEGIN:DAYLIGHT
TZOFFSETFROM:-0500
TZOFFSETTO:-0400
TZNAME:EDT
DTSTART:20220313T070000
END:DAYLIGHT
BEGIN:STANDARD
TZOFFSETFROM:-0400
TZOFFSETTO:-0500
TZNAME:EST
DTSTART:20221106T060000
END:STANDARD
END:VTIMEZONE
BEGIN:VEVENT
DTSTART;TZID=America/New_York:20221005T140000
DTEND;TZID=America/New_York:20221005T200000
DTSTAMP:20260424T214219
CREATED:20221005T085911Z
LAST-MODIFIED:20221005T085911Z
UID:2097538-1664978400-1665000000@ocmannproperties.com
SUMMARY:Pumpkin Pong
DESCRIPTION:Five Club Ocean Members actively playing with their card will be selected each hour to toss or bounce a ping pong ball into a pumpkin to win FREE PLAY at Ocean Downs Casino! 
URL:https://ocmannproperties.com/event/pumpkin-pong/
END:VEVENT
END:VCALENDAR