BEGIN:VCALENDAR
VERSION:2.0
PRODID:-//Ocean City MD Property Management - ECPv5.12.3//NONSGML v1.0//EN
CALSCALE:GREGORIAN
METHOD:PUBLISH
X-WR-CALNAME:Ocean City MD Property Management
X-ORIGINAL-URL:https://ocmannproperties.com
X-WR-CALDESC:Events for Ocean City MD Property Management
BEGIN:VTIMEZONE
TZID:America/New_York
BEGIN:DAYLIGHT
TZOFFSETFROM:-0500
TZOFFSETTO:-0400
TZNAME:EDT
DTSTART:20180311T070000
END:DAYLIGHT
BEGIN:STANDARD
TZOFFSETFROM:-0400
TZOFFSETTO:-0500
TZNAME:EST
DTSTART:20181104T060000
END:STANDARD
END:VTIMEZONE
BEGIN:VEVENT
DTSTART;TZID=America/New_York:20180919T180000
DTEND;TZID=America/New_York:20180919T200000
DTSTAMP:20260424T082201
CREATED:20180919T205822Z
LAST-MODIFIED:20180919T205822Z
UID:2093722-1537380000-1537387200@ocmannproperties.com
SUMMARY:Ravens Rap Show
DESCRIPTION:Ravens Rap Show Live – all you need to know about your hometown team!  \n \n Join your hosts Mike Bradley of 92.7 FM with his special guests each week for expert analysis\, fun commentary and insider information. \n \nThe Ravens Rap Show is filmed LIVE every Wednesday night from 6-8pm at The Original Greene Turtle!  Every show you attend\, gets you more chances to win Ravens Tickets to home Ravens games vs the Bears\, the Dolphins\, the Lions and the Colts (must be present to win) and other giveaways from sponsors!\n \nWhile you are here\, you might as well have a cold beer; $3 Miller Lite Bottles and $2.50 Miller Lite Drafts. \n \n \n \n 
URL:https://ocmannproperties.com/event/ravens-rap-show-4/
END:VEVENT
END:VCALENDAR