BEGIN:VCALENDAR
VERSION:2.0
PRODID:-//Ocean City MD Property Management - ECPv5.12.3//NONSGML v1.0//EN
CALSCALE:GREGORIAN
METHOD:PUBLISH
X-WR-CALNAME:Ocean City MD Property Management
X-ORIGINAL-URL:https://ocmannproperties.com
X-WR-CALDESC:Events for Ocean City MD Property Management
BEGIN:VTIMEZONE
TZID:America/New_York
BEGIN:DAYLIGHT
TZOFFSETFROM:-0500
TZOFFSETTO:-0400
TZNAME:EDT
DTSTART:20200308T070000
END:DAYLIGHT
BEGIN:STANDARD
TZOFFSETFROM:-0400
TZOFFSETTO:-0500
TZNAME:EST
DTSTART:20201101T060000
END:STANDARD
END:VTIMEZONE
BEGIN:VEVENT
DTSTART;TZID=America/New_York:20200222T070000
DTEND;TZID=America/New_York:20200222T220000
DTSTAMP:20260423T010402
CREATED:20200222T205835Z
LAST-MODIFIED:20200222T205835Z
UID:2094794-1582354800-1582408800@ocmannproperties.com
SUMMARY:Reach the Beach School Nationals: Rec & School
DESCRIPTION:Recreation and School Cheerleading Teams from around the\nworld gather to compete at the one and only Reach the Beach!  Experience\nthe thrill of competing under amazing concert lighting and professional HD\nSound System.  Teams will feel as if they were a part of an incredible\nBroadway Production in New York City!   \nOur fantastic\, professionally choreographed awards ceremony\,\nand the sheer fun of Ocean City\, Maryland\, combine to make this the best\nNational competition your team will attend!  Prize money\, fabulous\nindividual and partner stunt awards\, the unbeatable atmosphere\, unstoppable fun\nand more\, make this the premier Cheerleading National Championship!  After\nthe competition\, experience Ocean City’s beautiful beaches\, the world famous boardwalk\,\nseafood restaurants galore\, and outlet shopping!  Do not miss this\nsell-out event. \nCheerleading National Competition7AM – 10PMAdults – Saturday or Sunday – $22 / 2-Day – $39Children & Seniors – Saturday or Sunday – $15 / 2-Day –\n$27Call 877-322-2310 or visit www.acdaspirit.com or\nwww.theepicbrands.com
URL:https://ocmannproperties.com/event/reach-the-beach-school-nationals-rec-school-2/
END:VEVENT
END:VCALENDAR