BEGIN:VCALENDAR
VERSION:2.0
PRODID:-//Ocean City MD Property Management - ECPv5.12.3//NONSGML v1.0//EN
CALSCALE:GREGORIAN
METHOD:PUBLISH
X-WR-CALNAME:Ocean City MD Property Management
X-ORIGINAL-URL:https://ocmannproperties.com
X-WR-CALDESC:Events for Ocean City MD Property Management
BEGIN:VTIMEZONE
TZID:America/New_York
BEGIN:DAYLIGHT
TZOFFSETFROM:-0500
TZOFFSETTO:-0400
TZNAME:EDT
DTSTART:20180311T070000
END:DAYLIGHT
BEGIN:STANDARD
TZOFFSETFROM:-0400
TZOFFSETTO:-0500
TZNAME:EST
DTSTART:20181104T060000
END:STANDARD
END:VTIMEZONE
BEGIN:VEVENT
DTSTART;TZID=America/New_York:20180402T100000
DTEND;TZID=America/New_York:20180402T120000
DTSTAMP:20260424T160009
CREATED:20180402T205947Z
LAST-MODIFIED:20180402T205947Z
UID:2089727-1522663200-1522670400@ocmannproperties.com
SUMMARY:Ready Player One  (PG-13) Starring Tye Sheridan & Olivia Cooke
DESCRIPTION:Rated for sequences of sci0fi action\, violence\, bloody images\, some suggestive material\, partial nudity and language \n \nFrom filmmaker Steven Spielberg comes the science fiction action adventure Ready Player One\, based on Ernest Cline’s bestseller of the same name\, which has become a worldwide phenomenon.The film is set in 2045\, with the world on the brink of chaos and collapse. But the people have found salvation in the OASIS\, an expansive virtual reality universe created by the brilliant and eccentric James Halliday (Mark Rylance). When Halliday dies\, he leaves his immense fortune to the first person to find a digital Easter egg he has hidden somewhere in the OASIS\, sparking a contest that grips the entire world. When an unlikely young hero named Wade Watts (Tye Sheridan) decides to join the contest\, he is hurled into a breakneck\, reality-bending treasure hunt through a fantastical universe of mystery\, discovery and danger.
URL:https://ocmannproperties.com/event/ready-player-one-pg-13-starring-tye-sheridan-olivia-cooke/
END:VEVENT
END:VCALENDAR