BEGIN:VCALENDAR
VERSION:2.0
PRODID:-//Ocean City MD Property Management - ECPv5.12.3//NONSGML v1.0//EN
CALSCALE:GREGORIAN
METHOD:PUBLISH
X-WR-CALNAME:Ocean City MD Property Management
X-ORIGINAL-URL:https://ocmannproperties.com
X-WR-CALDESC:Events for Ocean City MD Property Management
BEGIN:VTIMEZONE
TZID:America/New_York
BEGIN:DAYLIGHT
TZOFFSETFROM:-0500
TZOFFSETTO:-0400
TZNAME:EDT
DTSTART:20170312T070000
END:DAYLIGHT
BEGIN:STANDARD
TZOFFSETFROM:-0400
TZOFFSETTO:-0500
TZNAME:EST
DTSTART:20171105T060000
END:STANDARD
END:VTIMEZONE
BEGIN:VEVENT
DTSTART;TZID=America/New_York:20170303T180000
DTEND;TZID=America/New_York:20170303T210000
DTSTAMP:20260425T173131
CREATED:20170303T090329Z
LAST-MODIFIED:20170303T090329Z
UID:2088849-1488564000-1488574800@ocmannproperties.com
SUMMARY:Scott Glorioso
DESCRIPTION:Scott Glorioso has played drums in a number of reputable bands over the past decade and is now coming into his own as a solo artist since falling in love with singing with a guitar in his hands. You can catch him playing acoustic or with a drum machine- when there’s a need for him to bring a bit more energy to a crowd. His style is influenced by artists such as Jason Mraz\, Jack Johnson\, Bob Marley\, and Pearl Jam. The people have called for a tastefully spicy local artist to bring them the Alternative\, Rock\, and Reggae that they want to hear\, and Scott Glorioso serves it up nice!
URL:https://ocmannproperties.com/event/scott-glorioso/
END:VEVENT
END:VCALENDAR