BEGIN:VCALENDAR
VERSION:2.0
PRODID:-//Ocean City MD Property Management - ECPv5.12.3//NONSGML v1.0//EN
CALSCALE:GREGORIAN
METHOD:PUBLISH
X-WR-CALNAME:Ocean City MD Property Management
X-ORIGINAL-URL:https://ocmannproperties.com
X-WR-CALDESC:Events for Ocean City MD Property Management
BEGIN:VTIMEZONE
TZID:America/New_York
BEGIN:DAYLIGHT
TZOFFSETFROM:-0500
TZOFFSETTO:-0400
TZNAME:EDT
DTSTART:20220313T070000
END:DAYLIGHT
BEGIN:STANDARD
TZOFFSETFROM:-0400
TZOFFSETTO:-0500
TZNAME:EST
DTSTART:20221106T060000
END:STANDARD
END:VTIMEZONE
BEGIN:VEVENT
DTSTART;TZID=America/New_York:20220409T120000
DTEND;TZID=America/New_York:20220409T160000
DTSTAMP:20260424T045942
CREATED:20220409T205850Z
LAST-MODIFIED:20220409T205850Z
UID:2097177-1649505600-1649520000@ocmannproperties.com
SUMMARY:Seacrets Craft\, Mac & Cheers Pig Roast
DESCRIPTION:Join Seacrets on Saturday\, April 9th for a Craft\, Mac\, & Cheers Pig Roast featuring live music\, delicious eats\, beers\, seltzers\, and more! \n \nPurchase your tickets online now or purchase online at the Seacrets Boutique during business hours. Your ticket will include beer and seltzers from Dogfish Head and Evolution Brewing\, a pig roast and a variety of delicious Mac and Cheeses including Lobster Mac\, Cajun Mac\, Taco Mac\, and Breakfast Mac.  Additionally\, take home a souvenir pit glass. \n \nLive music by Triple Rain Turn and DJ Bobby-O \nMust be 21+ to enter. 
URL:https://ocmannproperties.com/event/seacrets-craft-mac-cheers-pig-roast-2/
END:VEVENT
END:VCALENDAR