BEGIN:VCALENDAR
VERSION:2.0
PRODID:-//Ocean City MD Property Management - ECPv5.12.3//NONSGML v1.0//EN
CALSCALE:GREGORIAN
METHOD:PUBLISH
X-WR-CALNAME:Ocean City MD Property Management
X-ORIGINAL-URL:https://ocmannproperties.com
X-WR-CALDESC:Events for Ocean City MD Property Management
BEGIN:VTIMEZONE
TZID:America/New_York
BEGIN:DAYLIGHT
TZOFFSETFROM:-0500
TZOFFSETTO:-0400
TZNAME:EDT
DTSTART:20210314T070000
END:DAYLIGHT
BEGIN:STANDARD
TZOFFSETFROM:-0400
TZOFFSETTO:-0500
TZNAME:EST
DTSTART:20211107T060000
END:STANDARD
END:VTIMEZONE
BEGIN:VEVENT
DTSTART;TZID=America/New_York:20211017T063000
DTEND;TZID=America/New_York:20211017T160000
DTSTAMP:20260423T172001
CREATED:20211017T085939Z
LAST-MODIFIED:20211017T085939Z
UID:2096815-1634452200-1634486400@ocmannproperties.com
SUMMARY:Semper Fi Bike Ride
DESCRIPTION:This is a fun ride to raise money for the Semper Fi fund!   There a two components to this Fun Ride; the Boardwalk ride will begin at the Inlet and head north on the boardwalk and back to the Inlet and the Road Ride will take place from the OC Inlet to the Indian River Inlet and back.\n \n6:30 am – 4:00 pm\n \nRegistration:\n$35 for Boardwalk rider\n$45 for Road rider \n \n 
URL:https://ocmannproperties.com/event/semper-fi-bike-ride-3/
END:VEVENT
END:VCALENDAR