BEGIN:VCALENDAR
VERSION:2.0
PRODID:-//Ocean City MD Property Management - ECPv5.12.3//NONSGML v1.0//EN
CALSCALE:GREGORIAN
METHOD:PUBLISH
X-WR-CALNAME:Ocean City MD Property Management
X-ORIGINAL-URL:https://ocmannproperties.com
X-WR-CALDESC:Events for Ocean City MD Property Management
BEGIN:VTIMEZONE
TZID:America/New_York
BEGIN:DAYLIGHT
TZOFFSETFROM:-0500
TZOFFSETTO:-0400
TZNAME:EDT
DTSTART:20200308T070000
END:DAYLIGHT
BEGIN:STANDARD
TZOFFSETFROM:-0400
TZOFFSETTO:-0500
TZNAME:EST
DTSTART:20201101T060000
END:STANDARD
END:VTIMEZONE
BEGIN:VEVENT
DTSTART;TZID=America/New_York:20201018T090000
DTEND;TZID=America/New_York:20201018T150000
DTSTAMP:20260422T052453
CREATED:20201018T090029Z
LAST-MODIFIED:20201018T090029Z
UID:2095285-1603011600-1603033200@ocmannproperties.com
SUMMARY:Semper Fi Bike Ride
DESCRIPTION:This is a fun ride to raise money for the Semper Fi fund! The ride will begin at the Inlet and head north to 27th Street on the boardwalk and back to the Inlet.\n \n9am – 3pm\n \nRegistration:\n$25/$45 Individual rider\n$80/$120 4 family team riders\n \n 
URL:https://ocmannproperties.com/event/semper-fi-bike-ride/
END:VEVENT
END:VCALENDAR