BEGIN:VCALENDAR
VERSION:2.0
PRODID:-//Ocean City MD Property Management - ECPv5.12.3//NONSGML v1.0//EN
CALSCALE:GREGORIAN
METHOD:PUBLISH
X-WR-CALNAME:Ocean City MD Property Management
X-ORIGINAL-URL:https://ocmannproperties.com
X-WR-CALDESC:Events for Ocean City MD Property Management
BEGIN:VTIMEZONE
TZID:America/New_York
BEGIN:DAYLIGHT
TZOFFSETFROM:-0500
TZOFFSETTO:-0400
TZNAME:EDT
DTSTART:20180311T070000
END:DAYLIGHT
BEGIN:STANDARD
TZOFFSETFROM:-0400
TZOFFSETTO:-0500
TZNAME:EST
DTSTART:20181104T060000
END:STANDARD
END:VTIMEZONE
BEGIN:VEVENT
DTSTART;TZID=America/New_York:20180328T140000
DTEND;TZID=America/New_York:20180328T170000
DTSTAMP:20260424T172345
CREATED:20180328T085855Z
LAST-MODIFIED:20180328T085855Z
UID:2089716-1522245600-1522256400@ocmannproperties.com
SUMMARY:Senior Deck Party With Bobby Burns
DESCRIPTION:Join us every week for our Senior Deck Party with live music featuring Bobby Burns!\n \nComplimentary roast beef sandwiches\, while they last!
URL:https://ocmannproperties.com/event/senior-deck-party-with-bobby-burns/
END:VEVENT
END:VCALENDAR